BEGIN:VCALENDAR
VERSION:2.0
PRODID:-//Familien für Familien e.V. - ECPv5.12.2//NONSGML v1.0//EN
CALSCALE:GREGORIAN
METHOD:PUBLISH
X-WR-CALNAME:Familien für Familien e.V.
X-ORIGINAL-URL:http://www.familien-fuer-familien.eu
X-WR-CALDESC:Veranstaltungen für Familien für Familien e.V.
BEGIN:VTIMEZONE
TZID:UTC
BEGIN:STANDARD
TZOFFSETFROM:+0000
TZOFFSETTO:+0000
TZNAME:UTC
DTSTART:20260101T000000
END:STANDARD
END:VTIMEZONE
BEGIN:VEVENT
DTSTART;TZID=UTC:20260213T150000
DTEND;TZID=UTC:20260213T173000
DTSTAMP:20260424T231210
CREATED:20260118T164618Z
LAST-MODIFIED:20260118T183005Z
UID:2619-1770994800-1771003800@www.familien-fuer-familien.eu
SUMMARY:Faschingsfeier bei INCA
DESCRIPTION:DJs Phebe und Hjördis haben zugesagt.
URL:http://www.familien-fuer-familien.eu/termin/faschingsfeier-bei-inca/
LOCATION:Gemeindehaus der Friedenskirche\, Eichendorffstr. 6\, Peine\, 21224\, Deutschland
END:VEVENT
END:VCALENDAR